BEGIN:VCALENDAR
VERSION:2.0
PRODID:-//Drei100Sechzig - Das Schulungszentrum - ECPv6.15.18//NONSGML v1.0//EN
CALSCALE:GREGORIAN
METHOD:PUBLISH
X-ORIGINAL-URL:https://drei100sechzig.de
X-WR-CALDESC:Veranstaltungen für Drei100Sechzig - Das Schulungszentrum
REFRESH-INTERVAL;VALUE=DURATION:PT1H
X-Robots-Tag:noindex
X-PUBLISHED-TTL:PT1H
BEGIN:VTIMEZONE
TZID:Europe/Berlin
BEGIN:DAYLIGHT
TZOFFSETFROM:+0100
TZOFFSETTO:+0200
TZNAME:CEST
DTSTART:20230326T010000
END:DAYLIGHT
BEGIN:STANDARD
TZOFFSETFROM:+0200
TZOFFSETTO:+0100
TZNAME:CET
DTSTART:20231029T010000
END:STANDARD
BEGIN:DAYLIGHT
TZOFFSETFROM:+0100
TZOFFSETTO:+0200
TZNAME:CEST
DTSTART:20240331T010000
END:DAYLIGHT
BEGIN:STANDARD
TZOFFSETFROM:+0200
TZOFFSETTO:+0100
TZNAME:CET
DTSTART:20241027T010000
END:STANDARD
BEGIN:DAYLIGHT
TZOFFSETFROM:+0100
TZOFFSETTO:+0200
TZNAME:CEST
DTSTART:20250330T010000
END:DAYLIGHT
BEGIN:STANDARD
TZOFFSETFROM:+0200
TZOFFSETTO:+0100
TZNAME:CET
DTSTART:20251026T010000
END:STANDARD
END:VTIMEZONE
BEGIN:VEVENT
DTSTART;TZID=Europe/Berlin:20241008T080000
DTEND;TZID=Europe/Berlin:20241008T160000
DTSTAMP:20260423T192938
CREATED:20231108T141819Z
LAST-MODIFIED:20240912T101511Z
UID:10000191-1728374400-1728403200@drei100sechzig.de
SUMMARY:BKrFQG - Modul 2.1 - Lenk- und Ruhezeiten und Sozialvorschriften
DESCRIPTION:BKrFQG – Modul 2.1: Lenk- und Ruhezeiten\, Sozialvorschriften \n\n\nDas Berufskraftfahrerqualifikationsgesetz sieht vor\, dass Fahrerinnen und Fahrer eine Grundqualifikation benötigen\, wenn sie die Beförderungen im Güterkraft- oder Personenkraftverkehr auf öffentlichen Straßen durchführen und bei den Beförderungen ein Kraftfahrzeug einsetzen\, für das nach aktueller Rechtslage eine Fahrerlaubnis der Klassen C1\, C1E\, C\, CE\, D1\, D1E\, D oder DE benötigt wird. \n\n. \nKursinhalte \n\nModul 2.1: Lenk- und Ruhezeiten\, Sozialvorschriften \nUhrzeit\nVon 8:00 bis 16:00 Uhr \nPreis\n130 € zzgl. Mwst. – Bei Gruppenanfragen mit mehr als 5 Personen Preis auf Anfrage \nVoraussetzungen\nBesitz einer Fahrerlaubnis der Klassen C\, C1\, C1E\, CE\, D\, D1\, D1E\, DE \nAbschluss\nVerlängerung des Führerscheineintrags zur gewerblichen Nutzung \nFördermittel möglich?\nAuf Anfrage \nEs gibt noch freie Plätze\nAnmelden
URL:https://drei100sechzig.de/event/bkrfqg-modul-2-1-lenk-und-ruhezeiten-und-sozialvorschriften-9/
LOCATION:Bebelstr. 6 – Raum 103\, Bebelstr. 6 - Raum 103\, Freiburg\, Baden-Württemberg\, 79108\, Deutschland
CATEGORIES:Grundqualifikation Berufskraftfahrer,Schulungen,Weiterbildung Berufskraftfahrer
ATTACH;FMTTYPE=image/jpeg:https://drei100sechzig.de/wp-content/uploads/2022/12/BKrFQG_teaser-1.jpeg
ORGANIZER;CN="Drei100Sechzig - Das Schulungszentrum":MAILTO:info@drei100sechzig.de
END:VEVENT
BEGIN:VEVENT
DTSTART;TZID=Europe/Berlin:20241009T080000
DTEND;TZID=Europe/Berlin:20241009T160000
DTSTAMP:20260423T192938
CREATED:20231108T140808Z
LAST-MODIFIED:20240912T101605Z
UID:10000189-1728460800-1728489600@drei100sechzig.de
SUMMARY:BKrFQG - Modul 1.3 -  Optimierung des Kraftstoff­verbrauchs
DESCRIPTION:BKrFQG – BKrFQG – Modul 1.3 – Optimierung des Kraftstoffverbrauchs \n\n\nDas Berufskraftfahrerqualifikationsgesetz sieht vor\, dass Fahrerinnen und Fahrer eine Grundqualifikation benötigen\, wenn sie die Beförderungen im Güterkraft- oder Personenkraftverkehr auf öffentlichen Straßen durchführen und bei den Beförderungen ein Kraftfahrzeug einsetzen\, für das nach aktueller Rechtslage eine Fahrerlaubnis der Klassen C1\, C1E\, C\, CE\, D1\, D1E\, D oder DE benötigt wird. \n\n. \nKursinhalte \n\nModul 1.3: Optimierung des Kraftstoffverbrauchs \nUhrzeit\nVon 08:00 bis 16:00 Uhr \nPreis\n130 € zzgl. Mwst. – Bei Gruppenanfragen mit mehr als 5 Personen Preis auf Anfrage \nVoraussetzungen\nBesitz einer Fahrerlaubnis der Klassen C\, C1\, C1E\, CE\, D\, D1\, D1E\, DE \nAbschluss\nVerlängerung des Führerscheineintrags zur gewerblichen Nutzung \nFördermittel möglich?\nAuf Anfrage \nEs gibt noch freie Plätze\nAnmelden
URL:https://drei100sechzig.de/event/bkrfqg-modul-1-3-optimierung-des-kraftstoffverbrauchs-10/
LOCATION:Bebelstr. 6 – Raum 102\, Bebelstr. 6 - Raum 102\, Freiburg\, Baden-Württemberg\, 79108\, Deutschland
CATEGORIES:Grundqualifikation Berufskraftfahrer,Schulungen,Weiterbildung Berufskraftfahrer
ATTACH;FMTTYPE=image/jpeg:https://drei100sechzig.de/wp-content/uploads/2022/12/Berufskraftfahrer-teaser1.jpeg
ORGANIZER;CN="Drei100Sechzig - Das Schulungszentrum":MAILTO:info@drei100sechzig.de
END:VEVENT
BEGIN:VEVENT
DTSTART;TZID=Europe/Berlin:20241010T080000
DTEND;TZID=Europe/Berlin:20241010T160000
DTSTAMP:20260423T192938
CREATED:20231108T141341Z
LAST-MODIFIED:20240912T101638Z
UID:10000190-1728547200-1728576000@drei100sechzig.de
SUMMARY:BKrFQG - Modul 1.4 -  Ladungs­sicherung
DESCRIPTION:BKrFQG – Modul 1.4 – Ladungssicherung \n\n\nDas Berufskraftfahrerqualifikationsgesetz sieht vor\, dass Fahrerinnen und Fahrer eine Grundqualifikation benötigen\, wenn sie die Beförderungen im Güterkraft- oder Personenkraftverkehr auf öffentlichen Straßen durchführen und bei den Beförderungen ein Kraftfahrzeug einsetzen\, für das nach aktueller Rechtslage eine Fahrerlaubnis der Klassen C1\, C1E\, C\, CE\, D1\, D1E\, D oder DE benötigt wird. \n\n. \nKursinhalte \n\nModul 1.4: Ladungssicherung \nUhrzeit\nVon 8:00 bis 16:00 Uhr \n  \nPreis\n130 € zzgl. Mwst. – Bei Gruppenanfragen mit mehr als 5 Personen Preis auf Anfrage \nVoraussetzungen\nBesitz einer Fahrerlaubnis der Klassen C\, C1\, C1E\, CE\, D\, D1\, D1E\, DE \nAbschluss\nVerlängerung des Führerscheineintrags zur gewerblichen Nutzung \nFördermittel möglich?\nAuf Anfrage \nEs gibt noch freie Plätze\nAnmelden
URL:https://drei100sechzig.de/event/bkrfqg-modul-1-4-ladungssicherung-8/
LOCATION:Bebelstr. 6 – Raum 102\, Bebelstr. 6 - Raum 102\, Freiburg\, Baden-Württemberg\, 79108\, Deutschland
CATEGORIES:Grundqualifikation Berufskraftfahrer,Schulungen,Weiterbildung Berufskraftfahrer
ATTACH;FMTTYPE=image/jpeg:https://drei100sechzig.de/wp-content/uploads/2022/12/Berufskraftfahrer-teaser1.jpeg
ORGANIZER;CN="Drei100Sechzig - Das Schulungszentrum":MAILTO:info@drei100sechzig.de
END:VEVENT
BEGIN:VEVENT
DTSTART;TZID=Europe/Berlin:20241011T080000
DTEND;TZID=Europe/Berlin:20241011T160000
DTSTAMP:20260423T192938
CREATED:20231108T142348Z
LAST-MODIFIED:20231108T142348Z
UID:10000192-1728633600-1728662400@drei100sechzig.de
SUMMARY:BKrFQG - Modul 3.3 - 3.5 - Gesundheit\, Schwerpunkt: Erste Hilfe
DESCRIPTION:BKrFQG – Modul 3.3 – 3.5 – Gesundheit\, Schwerpunkt: Erste Hilfe \n\n\nDas Berufskraftfahrerqualifikationsgesetz sieht vor\, dass Fahrerinnen und Fahrer eine Grundqualifikation benötigen\, wenn sie die Beförderungen im Güterkraft- oder Personenkraftverkehr auf öffentlichen Straßen durchführen und bei den Beförderungen ein Kraftfahrzeug einsetzen\, für das nach aktueller Rechtslage eine Fahrerlaubnis der Klassen C1\, C1E\, C\, CE\, D1\, D1E\, D oder DE benötigt wird. \n\n. \nKursinhalte \n\nModul 3.3 – 3.5: Gesundheit\, Schwerpunkt: Erste Hilfe \nUhrzeit\nVon 8:00 bis 16:00 Uhr \nPreis\n130 € zzgl. Mwst. – Bei Gruppenanfragen mit mehr als 5 Personen Preis auf Anfrage \nVoraussetzungen\nBesitz einer Fahrerlaubnis der Klassen C\, C1\, C1E\, CE\, D\, D1\, D1E\, DE \nAbschluss\nVerlängerung des Führerscheineintrags zur gewerblichen Nutzung \nFördermittel möglich?\nAuf Anfrage \nEs gibt noch freie Plätze\nAnmelden
URL:https://drei100sechzig.de/event/bkrfqg-modul-3-3-3-5-gesundheit-schwerpunkt-erste-hilfe-4/
LOCATION:Bebelstr. 6 – Raum 102\, Bebelstr. 6 - Raum 102\, Freiburg\, Baden-Württemberg\, 79108\, Deutschland
CATEGORIES:Grundqualifikation Berufskraftfahrer,Schulungen,Weiterbildung Berufskraftfahrer
ATTACH;FMTTYPE=image/jpeg:https://drei100sechzig.de/wp-content/uploads/2022/12/BKrFQG_teaser-1.jpeg
ORGANIZER;CN="Drei100Sechzig - Das Schulungszentrum":MAILTO:info@drei100sechzig.de
END:VEVENT
BEGIN:VEVENT
DTSTART;TZID=Europe/Berlin:20241012T080000
DTEND;TZID=Europe/Berlin:20241012T160000
DTSTAMP:20260423T192938
CREATED:20231108T144136Z
LAST-MODIFIED:20231108T144136Z
UID:10000197-1728720000-1728748800@drei100sechzig.de
SUMMARY:BKrFQG - Modul 3.6-3.7 Kommunikation
DESCRIPTION:BKrFQG – Modul 3.6-3.7 Kommunikation \n\n\nDas Berufskraftfahrerqualifikationsgesetz sieht vor\, dass Fahrerinnen und Fahrer eine Grundqualifikation benötigen\, wenn sie die Beförderungen im Güterkraft- oder Personenkraftverkehr auf öffentlichen Straßen durchführen und bei den Beförderungen ein Kraftfahrzeug einsetzen\, für das nach aktueller Rechtslage eine Fahrerlaubnis der Klassen C1\, C1E\, C\, CE\, D1\, D1E\, D oder DE benötigt wird. \n\n. \nKursinhalte \n\nModul 3.6 – 3.7: Markt und Image\, Schwerpunkt: Kommunikationstraining\, Konfliktmanagement \nUhrzeit\nVon 8:00 bis 16:00 Uhr \nPreis\n130 € zzgl. Mwst.– Bei Gruppenanfragen mit mehr als 5 Personen Preis auf Anfrage \nVoraussetzungen\nBesitz einer Fahrerlaubnis der Klassen C\, C1\, C1E\, CE\, D\, D1\, D1E\, DE \nAbschluss\nVerlängerung des Führerscheineintrags zur gewerblichen Nutzung \nFördermittel möglich?\nAuf Anfrage \nEs gibt noch freie Plätze\nAnmelden
URL:https://drei100sechzig.de/event/bkrfqg-modul-3-6-3-7-kommunikation-3/
LOCATION:Bebelstr. 6 – Raum 102\, Bebelstr. 6 - Raum 102\, Freiburg\, Baden-Württemberg\, 79108\, Deutschland
CATEGORIES:Grundqualifikation Berufskraftfahrer,Schulungen,Weiterbildung Berufskraftfahrer
ATTACH;FMTTYPE=image/jpeg:https://drei100sechzig.de/wp-content/uploads/2022/12/BKrFQG_teaser-1.jpeg
ORGANIZER;CN="Drei100Sechzig - Das Schulungszentrum":MAILTO:info@drei100sechzig.de
END:VEVENT
BEGIN:VEVENT
DTSTART;TZID=Europe/Berlin:20241019T080000
DTEND;TZID=Europe/Berlin:20241019T150000
DTSTAMP:20260423T192938
CREATED:20231109T110432Z
LAST-MODIFIED:20240726T083610Z
UID:10000220-1729324800-1729350000@drei100sechzig.de
SUMMARY:ADR-Basis­schulung
DESCRIPTION:ADR Schein \nUm Gefahrgüter auf der Straße transportieren zu können\, brauchen Unternehmen qualifiziertes Fahrpersonal\, welches im Besitz eines gültigen ADR- bzw. Gefahrgutscheins sein muss. Drei100Sechzig bietet Ihnen eine Spezialisierung für Transporte mit besonderen Herausforderungen in nur 3 Tagen. Mit einem Kenntnisnachweis für Gefahrgut\, dem ADR-Schein\, sind Sie berechtigt in den Mitgliedsstaaten des ADR-Übereinkommens Gefahrgut zu transportieren. Die Erteilung erfolgt für neun Gefahrgutklassen. In diesem dreitägigen Kurs erhalten Sie die notwendigen Kenntnisse zum Bestehen der vorgeschriebenen IHK-Abschlussprüfung sowie den ADR Schein in den Bereichen Stückgut und Tank. \nKursinhalte \n allgemeine Vorschriften allgemeine Gefahreneigenschaften Dokumentation (was muss alles mitgeführt werden)  Fahrzeugs- und Beförderungsarten\, Umschließungen\, Ausrüstung\, Kennzeichnungen\, Bezettelung & orangefarbene Tafeln  Durchführung und Beförderung  Pflichten und Verantwortlichkeiten  Sanktionen\, Maßnahmen nach Unfällen und Zwischenfällen  Feuerlöschübung Uhrzeit\n\n1. Tag 19.10.2024: vom 08:00 Uhr bis 15:00 Uhr.\n2. Tag 25.10.2024: vom 17:00 Uhr  bis 21:20 Uhr\n3. Tag 26.10.2024: vom 08:00 Uhr  bis 13:30 Uhr\n\nPreis\nDreitägiger Basiskurs: 360 € zzgl. MwSt.\, zzgl. 20 € Lernmaterial und 60 € Prüfungsgebühren der IHK.  Bei Gruppenanfragen mit mehr als 5 Personen Preis auf Anfrage \nVoraussetzungen\n\nfür den Basiskurs: Besitz einer gültigen Fahrerlaubnis.\n\nAbschluss\nErwerb des ADR-Scheins \nFördermittel möglich?\nAuf Anfrage \nEs gibt noch freie Plätze\nAnmelden
URL:https://drei100sechzig.de/event/adr-basisschulung-8/2024-10-19/
LOCATION:Bebelstr. 6 – Raum 102\, Bebelstr. 6 - Raum 102\, Freiburg\, Baden-Württemberg\, 79108\, Deutschland
CATEGORIES:ADR Schein,Schulungen
ATTACH;FMTTYPE=image/jpeg:https://drei100sechzig.de/wp-content/uploads/2022/12/ADR_gefahrgut_v1_teaser.jpg
ORGANIZER;CN="Drei100Sechzig - Das Schulungszentrum":MAILTO:info@drei100sechzig.de
END:VEVENT
BEGIN:VEVENT
DTSTART;TZID=Europe/Berlin:20241025T080000
DTEND;TZID=Europe/Berlin:20241025T170000
DTSTAMP:20260423T192938
CREATED:20231109T110432Z
LAST-MODIFIED:20240726T083610Z
UID:10000244-1729843200-1729875600@drei100sechzig.de
SUMMARY:ADR-Basis­schulung
DESCRIPTION:ADR Schein \nUm Gefahrgüter auf der Straße transportieren zu können\, brauchen Unternehmen qualifiziertes Fahrpersonal\, welches im Besitz eines gültigen ADR- bzw. Gefahrgutscheins sein muss. Drei100Sechzig bietet Ihnen eine Spezialisierung für Transporte mit besonderen Herausforderungen in nur 3 Tagen. Mit einem Kenntnisnachweis für Gefahrgut\, dem ADR-Schein\, sind Sie berechtigt in den Mitgliedsstaaten des ADR-Übereinkommens Gefahrgut zu transportieren. Die Erteilung erfolgt für neun Gefahrgutklassen. In diesem dreitägigen Kurs erhalten Sie die notwendigen Kenntnisse zum Bestehen der vorgeschriebenen IHK-Abschlussprüfung sowie den ADR Schein in den Bereichen Stückgut und Tank. \nKursinhalte \n allgemeine Vorschriften allgemeine Gefahreneigenschaften Dokumentation (was muss alles mitgeführt werden)  Fahrzeugs- und Beförderungsarten\, Umschließungen\, Ausrüstung\, Kennzeichnungen\, Bezettelung & orangefarbene Tafeln  Durchführung und Beförderung  Pflichten und Verantwortlichkeiten  Sanktionen\, Maßnahmen nach Unfällen und Zwischenfällen  Feuerlöschübung Uhrzeit\n\n1. Tag 19.10.2024: vom 08:00 Uhr bis 15:00 Uhr.\n2. Tag 25.10.2024: vom 17:00 Uhr  bis 21:20 Uhr\n3. Tag 26.10.2024: vom 08:00 Uhr  bis 13:30 Uhr\n\nPreis\nDreitägiger Basiskurs: 360 € zzgl. MwSt.\, zzgl. 20 € Lernmaterial und 60 € Prüfungsgebühren der IHK.  Bei Gruppenanfragen mit mehr als 5 Personen Preis auf Anfrage \nVoraussetzungen\n\nfür den Basiskurs: Besitz einer gültigen Fahrerlaubnis.\n\nAbschluss\nErwerb des ADR-Scheins \nFördermittel möglich?\nAuf Anfrage \nEs gibt noch freie Plätze\nAnmelden
URL:https://drei100sechzig.de/event/adr-basisschulung-8/2024-10-25/
LOCATION:Bebelstr. 6 – Raum 102\, Bebelstr. 6 - Raum 102\, Freiburg\, Baden-Württemberg\, 79108\, Deutschland
CATEGORIES:ADR Schein,Schulungen
ATTACH;FMTTYPE=image/jpeg:https://drei100sechzig.de/wp-content/uploads/2022/12/ADR_gefahrgut_v1_teaser.jpg
ORGANIZER;CN="Drei100Sechzig - Das Schulungszentrum":MAILTO:info@drei100sechzig.de
END:VEVENT
BEGIN:VEVENT
DTSTART;TZID=Europe/Berlin:20241026T080000
DTEND;TZID=Europe/Berlin:20241026T170000
DTSTAMP:20260423T192938
CREATED:20231109T110432Z
LAST-MODIFIED:20240726T083610Z
UID:10000245-1729929600-1729962000@drei100sechzig.de
SUMMARY:ADR-Basis­schulung
DESCRIPTION:ADR Schein \nUm Gefahrgüter auf der Straße transportieren zu können\, brauchen Unternehmen qualifiziertes Fahrpersonal\, welches im Besitz eines gültigen ADR- bzw. Gefahrgutscheins sein muss. Drei100Sechzig bietet Ihnen eine Spezialisierung für Transporte mit besonderen Herausforderungen in nur 3 Tagen. Mit einem Kenntnisnachweis für Gefahrgut\, dem ADR-Schein\, sind Sie berechtigt in den Mitgliedsstaaten des ADR-Übereinkommens Gefahrgut zu transportieren. Die Erteilung erfolgt für neun Gefahrgutklassen. In diesem dreitägigen Kurs erhalten Sie die notwendigen Kenntnisse zum Bestehen der vorgeschriebenen IHK-Abschlussprüfung sowie den ADR Schein in den Bereichen Stückgut und Tank. \nKursinhalte \n allgemeine Vorschriften allgemeine Gefahreneigenschaften Dokumentation (was muss alles mitgeführt werden)  Fahrzeugs- und Beförderungsarten\, Umschließungen\, Ausrüstung\, Kennzeichnungen\, Bezettelung & orangefarbene Tafeln  Durchführung und Beförderung  Pflichten und Verantwortlichkeiten  Sanktionen\, Maßnahmen nach Unfällen und Zwischenfällen  Feuerlöschübung Uhrzeit\n\n1. Tag 19.10.2024: vom 08:00 Uhr bis 15:00 Uhr.\n2. Tag 25.10.2024: vom 17:00 Uhr  bis 21:20 Uhr\n3. Tag 26.10.2024: vom 08:00 Uhr  bis 13:30 Uhr\n\nPreis\nDreitägiger Basiskurs: 360 € zzgl. MwSt.\, zzgl. 20 € Lernmaterial und 60 € Prüfungsgebühren der IHK.  Bei Gruppenanfragen mit mehr als 5 Personen Preis auf Anfrage \nVoraussetzungen\n\nfür den Basiskurs: Besitz einer gültigen Fahrerlaubnis.\n\nAbschluss\nErwerb des ADR-Scheins \nFördermittel möglich?\nAuf Anfrage \nEs gibt noch freie Plätze\nAnmelden
URL:https://drei100sechzig.de/event/adr-basisschulung-8/2024-10-26/
LOCATION:Bebelstr. 6 – Raum 102\, Bebelstr. 6 - Raum 102\, Freiburg\, Baden-Württemberg\, 79108\, Deutschland
CATEGORIES:ADR Schein,Schulungen
ATTACH;FMTTYPE=image/jpeg:https://drei100sechzig.de/wp-content/uploads/2022/12/ADR_gefahrgut_v1_teaser.jpg
ORGANIZER;CN="Drei100Sechzig - Das Schulungszentrum":MAILTO:info@drei100sechzig.de
END:VEVENT
END:VCALENDAR