BEGIN:VCALENDAR
VERSION:2.0
PRODID:-//Drei100Sechzig - Das Schulungszentrum - ECPv6.15.18//NONSGML v1.0//EN
CALSCALE:GREGORIAN
METHOD:PUBLISH
X-ORIGINAL-URL:https://drei100sechzig.de
X-WR-CALDESC:Veranstaltungen für Drei100Sechzig - Das Schulungszentrum
REFRESH-INTERVAL;VALUE=DURATION:PT1H
X-Robots-Tag:noindex
X-PUBLISHED-TTL:PT1H
BEGIN:VTIMEZONE
TZID:Europe/Berlin
BEGIN:DAYLIGHT
TZOFFSETFROM:+0100
TZOFFSETTO:+0200
TZNAME:CEST
DTSTART:20240331T010000
END:DAYLIGHT
BEGIN:STANDARD
TZOFFSETFROM:+0200
TZOFFSETTO:+0100
TZNAME:CET
DTSTART:20241027T010000
END:STANDARD
BEGIN:DAYLIGHT
TZOFFSETFROM:+0100
TZOFFSETTO:+0200
TZNAME:CEST
DTSTART:20250330T010000
END:DAYLIGHT
BEGIN:STANDARD
TZOFFSETFROM:+0200
TZOFFSETTO:+0100
TZNAME:CET
DTSTART:20251026T010000
END:STANDARD
BEGIN:DAYLIGHT
TZOFFSETFROM:+0100
TZOFFSETTO:+0200
TZNAME:CEST
DTSTART:20260329T010000
END:DAYLIGHT
BEGIN:STANDARD
TZOFFSETFROM:+0200
TZOFFSETTO:+0100
TZNAME:CET
DTSTART:20261025T010000
END:STANDARD
END:VTIMEZONE
BEGIN:VEVENT
DTSTART;VALUE=DATE:20251105
DTEND;VALUE=DATE:20251107
DTSTAMP:20260421T201330
CREATED:20250904T093551Z
LAST-MODIFIED:20251024T082645Z
UID:10000369-1762300800-1762473599@drei100sechzig.de
SUMMARY:Burnoutprävention - Cool bleiben\, auch wenn´s heiß her geht!
DESCRIPTION:Burnoutprävention – Cool bleiben\, auch wenn´s heiß her geht! \nSowohl im Alltag als auch beruflich können herausfordernde Situationen eintreten. Wichtig ist: cool bleiben\, auch wenn´s heiß her geht! Die neue Schulung von Drei100Sechzig unterstützt Sie dabei. Dieser 2-Tages-Kurs ist als Bildungs- und Entwicklungsprojekt konzipiert und in seiner Art einzigartig. Gemeinsam mit Ihnen\, und unserem Partner COREVOLVIUM Institute\, schaffen wir einen klaren gesundheitspflegenden Beitrag für Menschen\, Organisationen und die Gesellschaft. Aus der Praxis für die Praxis. Für alle Menschen in verantwortungsvollen Positionen. Egal welches Hierarchielevel.  \nKursinhalte \n\nGrundsatz: Absoluter Bezug auf die Berufliche Praxis  \n\nDer „Schaltplan des Menschen“ und seine Auswirkungen auf die Organisation \n\nErkenne: wann ist ein Mensch gestresst\, wann überfordert. \n\nIhr persönliches Profiling (in den Kursgebühren enthalten) \n\nKOERPERSsprache® verstehen \n\nErkenne Frühwarnsignale – bei dir\, bei anderen und handle! \n\nDas Märchen von der Work-Life-Balance und wie es richtig geht. \n\nExkurs: Was braucht es in der Wiedereingliederung wirklich? \n\nPraxisbeispiele zu jedem Themenfeld. Deine Fragen sind willkommen \nUhrzeit\nVon 08:00 bis 16:00 Uhr. \nPreis\n585€ zzgl. MwSt. Bei Gruppenanfragen mit mehr als 5 Personen Preis auf Anfrage \nVoraussetzungen\nKeine \nAbschluss\nTeilnahmebestätigung \nFördermittel möglich?\nAuf Anfrage \nEs gibt noch freie Plätze\nAnmelden
URL:https://drei100sechzig.de/event/burnoutpraevention/
LOCATION:Blankreutestr. 1\, Blankreutestr. 1\, Freiburg\, Baden-Württemberg\, 79108\, Germany
CATEGORIES:Burnoutprävention,Schulungen
ATTACH;FMTTYPE=image/jpeg:https://drei100sechzig.de/wp-content/uploads/2025/09/4-AdobeStock_554816359-scaled.jpeg
ORGANIZER;CN="Drei100Sechzig - Das Schulungszentrum":MAILTO:info@drei100sechzig.de
END:VEVENT
END:VCALENDAR