BEGIN:VCALENDAR
VERSION:2.0
PRODID:-//Drei100Sechzig - Das Schulungszentrum - ECPv6.15.18//NONSGML v1.0//EN
CALSCALE:GREGORIAN
METHOD:PUBLISH
X-ORIGINAL-URL:https://drei100sechzig.de
X-WR-CALDESC:Veranstaltungen für Drei100Sechzig - Das Schulungszentrum
REFRESH-INTERVAL;VALUE=DURATION:PT1H
X-Robots-Tag:noindex
X-PUBLISHED-TTL:PT1H
BEGIN:VTIMEZONE
TZID:Europe/Berlin
BEGIN:DAYLIGHT
TZOFFSETFROM:+0100
TZOFFSETTO:+0200
TZNAME:CEST
DTSTART:20240331T010000
END:DAYLIGHT
BEGIN:STANDARD
TZOFFSETFROM:+0200
TZOFFSETTO:+0100
TZNAME:CET
DTSTART:20241027T010000
END:STANDARD
BEGIN:DAYLIGHT
TZOFFSETFROM:+0100
TZOFFSETTO:+0200
TZNAME:CEST
DTSTART:20250330T010000
END:DAYLIGHT
BEGIN:STANDARD
TZOFFSETFROM:+0200
TZOFFSETTO:+0100
TZNAME:CET
DTSTART:20251026T010000
END:STANDARD
BEGIN:DAYLIGHT
TZOFFSETFROM:+0100
TZOFFSETTO:+0200
TZNAME:CEST
DTSTART:20260329T010000
END:DAYLIGHT
BEGIN:STANDARD
TZOFFSETFROM:+0200
TZOFFSETTO:+0100
TZNAME:CET
DTSTART:20261025T010000
END:STANDARD
END:VTIMEZONE
BEGIN:VEVENT
DTSTART;TZID=Europe/Berlin:20250628T080000
DTEND;TZID=Europe/Berlin:20250628T160000
DTSTAMP:20260425T134802
CREATED:20250611T124601Z
LAST-MODIFIED:20250611T124922Z
UID:10000351-1751097600-1751126400@drei100sechzig.de
SUMMARY:BKrFQG - Modul 2.2 – Kenntnis der Vorschriften für den Güterkraftverkehr
DESCRIPTION:
URL:https://drei100sechzig.de/event/schulung-kenntnis-der-vorschriften-fuer-den-gueterkraftverkehr/
LOCATION:Besprechungsraum „Berlin“\, Airport Boulevard\, Airport Boulevard B216\, Rheinmünster\, Baden-Württemberg\, 77836\, Deutschland
CATEGORIES:Grundqualifikation Berufskraftfahrer,Schulungen,Weiterbildung Berufskraftfahrer
ATTACH;FMTTYPE=image/jpeg:https://drei100sechzig.de/wp-content/uploads/2022/12/Berufskraftfahrer-teaser1.jpeg
ORGANIZER;CN="Drei100Sechzig - Das Schulungszentrum":MAILTO:info@drei100sechzig.de
END:VEVENT
END:VCALENDAR