BEGIN:VCALENDAR
VERSION:2.0
PRODID:-//Drei100Sechzig - Das Schulungszentrum - ECPv6.15.18//NONSGML v1.0//EN
CALSCALE:GREGORIAN
METHOD:PUBLISH
X-ORIGINAL-URL:https://drei100sechzig.de
X-WR-CALDESC:Veranstaltungen für Drei100Sechzig - Das Schulungszentrum
REFRESH-INTERVAL;VALUE=DURATION:PT1H
X-Robots-Tag:noindex
X-PUBLISHED-TTL:PT1H
BEGIN:VTIMEZONE
TZID:Europe/Berlin
BEGIN:DAYLIGHT
TZOFFSETFROM:+0100
TZOFFSETTO:+0200
TZNAME:CEST
DTSTART:20240331T010000
END:DAYLIGHT
BEGIN:STANDARD
TZOFFSETFROM:+0200
TZOFFSETTO:+0100
TZNAME:CET
DTSTART:20241027T010000
END:STANDARD
BEGIN:DAYLIGHT
TZOFFSETFROM:+0100
TZOFFSETTO:+0200
TZNAME:CEST
DTSTART:20250330T010000
END:DAYLIGHT
BEGIN:STANDARD
TZOFFSETFROM:+0200
TZOFFSETTO:+0100
TZNAME:CET
DTSTART:20251026T010000
END:STANDARD
BEGIN:DAYLIGHT
TZOFFSETFROM:+0100
TZOFFSETTO:+0200
TZNAME:CEST
DTSTART:20260329T010000
END:DAYLIGHT
BEGIN:STANDARD
TZOFFSETFROM:+0200
TZOFFSETTO:+0100
TZNAME:CET
DTSTART:20261025T010000
END:STANDARD
END:VTIMEZONE
BEGIN:VEVENT
DTSTART;TZID=Europe/Berlin:20251021T080000
DTEND;TZID=Europe/Berlin:20251021T160000
DTSTAMP:20260421T144324
CREATED:20250825T083448Z
LAST-MODIFIED:20250825T083448Z
UID:10000365-1761033600-1761062400@drei100sechzig.de
SUMMARY:BKrFQG - Modul 2.1 - Lenk- und Ruhezeiten und Sozialvorschriften
DESCRIPTION:BKrFQG – Modul 2.1: Lenk- und Ruhezeiten\, Sozialvorschriften \n\n\nDas Berufskraftfahrerqualifikationsgesetz sieht vor\, dass Fahrerinnen und Fahrer eine Grundqualifikation benötigen\, wenn sie die Beförderungen im Güterkraft- oder Personenkraftverkehr auf öffentlichen Straßen durchführen und bei den Beförderungen ein Kraftfahrzeug einsetzen\, für das nach aktueller Rechtslage eine Fahrerlaubnis der Klassen C1\, C1E\, C\, CE\, D1\, D1E\, D oder DE benötigt wird. \n\n. \nKursinhalte \n\nModul 2.1: Lenk- und Ruhezeiten\, Sozialvorschriften \nUhrzeit\nVon 8:00 bis 16:00 Uhr \nPreis\n130 € zzgl. Mwst. – Bei Gruppenanfragen mit mehr als 5 Personen Preis auf Anfrage \nVoraussetzungen\nBesitz einer Fahrerlaubnis der Klassen C\, C1\, C1E\, CE\, D\, D1\, D1E\, DE \nAbschluss\nVerlängerung des Führerscheineintrags zur gewerblichen Nutzung \nFördermittel möglich?\nAuf Anfrage \nEs gibt noch freie Plätze\nAnmelden
URL:https://drei100sechzig.de/event/bkrfqg-modul-2-1-lenk-und-ruhezeiten-und-sozialvorschriften-14/
LOCATION:Bebelstr. 6 – Raum 101\, Bebelstr. 6 - Raum 101\, Freiburg\, Baden-Württemberg\, 79108
CATEGORIES:Grundqualifikation Berufskraftfahrer,Schulungen,Weiterbildung Berufskraftfahrer
ATTACH;FMTTYPE=image/jpeg:https://drei100sechzig.de/wp-content/uploads/2022/12/BKrFQG_teaser-1.jpeg
ORGANIZER;CN="Drei100Sechzig - Das Schulungszentrum":MAILTO:info@drei100sechzig.de
END:VEVENT
BEGIN:VEVENT
DTSTART;TZID=Europe/Berlin:20251022T080000
DTEND;TZID=Europe/Berlin:20251022T160000
DTSTAMP:20260421T144324
CREATED:20250825T083350Z
LAST-MODIFIED:20250825T083350Z
UID:10000364-1761120000-1761148800@drei100sechzig.de
SUMMARY:BKrFQG - Modul 1.3 -  Optimierung des Kraftstoff­verbrauchs
DESCRIPTION:BKrFQG – BKrFQG – Modul 1.3 – Optimierung des Kraftstoffverbrauchs \n\n\nDas Berufskraftfahrerqualifikationsgesetz sieht vor\, dass Fahrerinnen und Fahrer eine Grundqualifikation benötigen\, wenn sie die Beförderungen im Güterkraft- oder Personenkraftverkehr auf öffentlichen Straßen durchführen und bei den Beförderungen ein Kraftfahrzeug einsetzen\, für das nach aktueller Rechtslage eine Fahrerlaubnis der Klassen C1\, C1E\, C\, CE\, D1\, D1E\, D oder DE benötigt wird. \n\n. \nKursinhalte \n\nModul 1.3: Optimierung des Kraftstoffverbrauchs \nUhrzeit\nVon 08:00 bis 16:00 Uhr \nPreis\n130 € zzgl. Mwst. – Bei Gruppenanfragen mit mehr als 5 Personen Preis auf Anfrage \nVoraussetzungen\nBesitz einer Fahrerlaubnis der Klassen C\, C1\, C1E\, CE\, D\, D1\, D1E\, DE \nAbschluss\nVerlängerung des Führerscheineintrags zur gewerblichen Nutzung \nFördermittel möglich?\nAuf Anfrage \nEs gibt noch freie Plätze\nAnmelden
URL:https://drei100sechzig.de/event/bkrfqg-modul-1-3-optimierung-des-kraftstoffverbrauchs-13/
LOCATION:Bebelstr. 6 – Raum 103\, Bebelstr. 6 - Raum 103\, Freiburg\, Baden-Württemberg\, 79108\, Deutschland
CATEGORIES:Grundqualifikation Berufskraftfahrer,Schulungen,Weiterbildung Berufskraftfahrer
ATTACH;FMTTYPE=image/jpeg:https://drei100sechzig.de/wp-content/uploads/2022/12/Berufskraftfahrer-teaser1.jpeg
ORGANIZER;CN="Drei100Sechzig - Das Schulungszentrum":MAILTO:info@drei100sechzig.de
END:VEVENT
BEGIN:VEVENT
DTSTART;TZID=Europe/Berlin:20251023T080000
DTEND;TZID=Europe/Berlin:20251023T160000
DTSTAMP:20260421T144324
CREATED:20250825T083533Z
LAST-MODIFIED:20250825T083533Z
UID:10000366-1761206400-1761235200@drei100sechzig.de
SUMMARY:BKrFQG - Modul 1.4 -  Ladungs­sicherung
DESCRIPTION:BKrFQG – Modul 1.4 – Ladungssicherung \n\n\nDas Berufskraftfahrerqualifikationsgesetz sieht vor\, dass Fahrerinnen und Fahrer eine Grundqualifikation benötigen\, wenn sie die Beförderungen im Güterkraft- oder Personenkraftverkehr auf öffentlichen Straßen durchführen und bei den Beförderungen ein Kraftfahrzeug einsetzen\, für das nach aktueller Rechtslage eine Fahrerlaubnis der Klassen C1\, C1E\, C\, CE\, D1\, D1E\, D oder DE benötigt wird. \n\n. \nKursinhalte \n\nModul 1.4: Ladungssicherung \nUhrzeit\nVon 8:00 bis 16:00 Uhr \n  \nPreis\n130 € zzgl. Mwst. – Bei Gruppenanfragen mit mehr als 5 Personen Preis auf Anfrage \nVoraussetzungen\nBesitz einer Fahrerlaubnis der Klassen C\, C1\, C1E\, CE\, D\, D1\, D1E\, DE \nAbschluss\nVerlängerung des Führerscheineintrags zur gewerblichen Nutzung \nFördermittel möglich?\nAuf Anfrage \nEs gibt noch freie Plätze\nAnmelden
URL:https://drei100sechzig.de/event/bkrfqg-modul-1-4-ladungssicherung-12/
LOCATION:Bebelstr. 6 – Raum 101\, Bebelstr. 6 - Raum 101\, Freiburg\, Baden-Württemberg\, 79108
CATEGORIES:Grundqualifikation Berufskraftfahrer,Schulungen,Weiterbildung Berufskraftfahrer
ATTACH;FMTTYPE=image/jpeg:https://drei100sechzig.de/wp-content/uploads/2022/12/Berufskraftfahrer-teaser1.jpeg
ORGANIZER;CN="Drei100Sechzig - Das Schulungszentrum":MAILTO:info@drei100sechzig.de
END:VEVENT
BEGIN:VEVENT
DTSTART;TZID=Europe/Berlin:20251024T080000
DTEND;TZID=Europe/Berlin:20251024T160000
DTSTAMP:20260421T144324
CREATED:20250825T083616Z
LAST-MODIFIED:20250825T083616Z
UID:10000367-1761292800-1761321600@drei100sechzig.de
SUMMARY:BKrFQG - Modul 3.3 - 3.5 - Gesundheit\, Schwerpunkt: Erste Hilfe
DESCRIPTION:BKrFQG – Modul 3.3 – 3.5 – Gesundheit\, Schwerpunkt: Erste Hilfe \n\n\nDas Berufskraftfahrerqualifikationsgesetz sieht vor\, dass Fahrerinnen und Fahrer eine Grundqualifikation benötigen\, wenn sie die Beförderungen im Güterkraft- oder Personenkraftverkehr auf öffentlichen Straßen durchführen und bei den Beförderungen ein Kraftfahrzeug einsetzen\, für das nach aktueller Rechtslage eine Fahrerlaubnis der Klassen C1\, C1E\, C\, CE\, D1\, D1E\, D oder DE benötigt wird. \n\n. \nKursinhalte \n\nModul 3.3 – 3.5: Gesundheit\, Schwerpunkt: Erste Hilfe \nUhrzeit\nVon 8:00 bis 16:00 Uhr \nPreis\n130 € zzgl. Mwst. – Bei Gruppenanfragen mit mehr als 5 Personen Preis auf Anfrage \nVoraussetzungen\nBesitz einer Fahrerlaubnis der Klassen C\, C1\, C1E\, CE\, D\, D1\, D1E\, DE \nAbschluss\nVerlängerung des Führerscheineintrags zur gewerblichen Nutzung \nFördermittel möglich?\nAuf Anfrage \nEs gibt noch freie Plätze\nAnmelden
URL:https://drei100sechzig.de/event/bkrfqg-modul-3-3-3-5-gesundheit-schwerpunkt-erste-hilfe-6/
LOCATION:Bebelstr. 6 – Raum 103\, Bebelstr. 6 - Raum 103\, Freiburg\, Baden-Württemberg\, 79108\, Deutschland
CATEGORIES:Grundqualifikation Berufskraftfahrer,Schulungen,Weiterbildung Berufskraftfahrer
ATTACH;FMTTYPE=image/jpeg:https://drei100sechzig.de/wp-content/uploads/2022/12/BKrFQG_teaser-1.jpeg
ORGANIZER;CN="Drei100Sechzig - Das Schulungszentrum":MAILTO:info@drei100sechzig.de
END:VEVENT
BEGIN:VEVENT
DTSTART;TZID=Europe/Berlin:20251025T080000
DTEND;TZID=Europe/Berlin:20251025T160000
DTSTAMP:20260421T144324
CREATED:20250825T083653Z
LAST-MODIFIED:20250825T083729Z
UID:10000368-1761379200-1761408000@drei100sechzig.de
SUMMARY:BKrFQG - Modul 3.6-3.7 Kommunikation
DESCRIPTION:BKrFQG – Modul 3.6-3.7 Kommunikation \n\n\nDas Berufskraftfahrerqualifikationsgesetz sieht vor\, dass Fahrerinnen und Fahrer eine Grundqualifikation benötigen\, wenn sie die Beförderungen im Güterkraft- oder Personenkraftverkehr auf öffentlichen Straßen durchführen und bei den Beförderungen ein Kraftfahrzeug einsetzen\, für das nach aktueller Rechtslage eine Fahrerlaubnis der Klassen C1\, C1E\, C\, CE\, D1\, D1E\, D oder DE benötigt wird. \n\n. \nKursinhalte \n\nModul 3.6 – 3.7: Markt und Image\, Schwerpunkt: Kommunikationstraining\, Konfliktmanagement \nUhrzeit\nVon 8:00 bis 16:00 Uhr \nPreis\n120 € zzgl. Mwst.– Bei Gruppenanfragen mit mehr als 5 Personen Preis auf Anfrage \nVoraussetzungen\nBesitz einer Fahrerlaubnis der Klassen C\, C1\, C1E\, CE\, D\, D1\, D1E\, DE \nAbschluss\nVerlängerung des Führerscheineintrags zur gewerblichen Nutzung \nFördermittel möglich?\nAuf Anfrage \nEs gibt noch freie Plätze\nAnmelden
URL:https://drei100sechzig.de/event/bkrfqg-modul-3-6-3-7-kommunikation-8/
LOCATION:Bebelstr. 6 – Raum 103\, Bebelstr. 6 - Raum 103\, Freiburg\, Baden-Württemberg\, 79108\, Deutschland
CATEGORIES:Grundqualifikation Berufskraftfahrer,Schulungen,Weiterbildung Berufskraftfahrer
ATTACH;FMTTYPE=image/jpeg:https://drei100sechzig.de/wp-content/uploads/2022/12/BKrFQG_teaser-1.jpeg
ORGANIZER;CN="Drei100Sechzig - Das Schulungszentrum":MAILTO:info@drei100sechzig.de
END:VEVENT
END:VCALENDAR