BEGIN:VCALENDAR
VERSION:2.0
PRODID:-//Drei100Sechzig - Das Schulungszentrum - ECPv6.15.18//NONSGML v1.0//EN
CALSCALE:GREGORIAN
METHOD:PUBLISH
X-ORIGINAL-URL:https://drei100sechzig.de
X-WR-CALDESC:Veranstaltungen für Drei100Sechzig - Das Schulungszentrum
REFRESH-INTERVAL;VALUE=DURATION:PT1H
X-Robots-Tag:noindex
X-PUBLISHED-TTL:PT1H
BEGIN:VTIMEZONE
TZID:Europe/Berlin
BEGIN:DAYLIGHT
TZOFFSETFROM:+0100
TZOFFSETTO:+0200
TZNAME:CEST
DTSTART:20240331T010000
END:DAYLIGHT
BEGIN:STANDARD
TZOFFSETFROM:+0200
TZOFFSETTO:+0100
TZNAME:CET
DTSTART:20241027T010000
END:STANDARD
BEGIN:DAYLIGHT
TZOFFSETFROM:+0100
TZOFFSETTO:+0200
TZNAME:CEST
DTSTART:20250330T010000
END:DAYLIGHT
BEGIN:STANDARD
TZOFFSETFROM:+0200
TZOFFSETTO:+0100
TZNAME:CET
DTSTART:20251026T010000
END:STANDARD
BEGIN:DAYLIGHT
TZOFFSETFROM:+0100
TZOFFSETTO:+0200
TZNAME:CEST
DTSTART:20260329T010000
END:DAYLIGHT
BEGIN:STANDARD
TZOFFSETFROM:+0200
TZOFFSETTO:+0100
TZNAME:CET
DTSTART:20261025T010000
END:STANDARD
END:VTIMEZONE
BEGIN:VEVENT
DTSTART;VALUE=DATE:20251108
DTEND;VALUE=DATE:20251109
DTSTAMP:20260421T132235
CREATED:20250819T063434Z
LAST-MODIFIED:20250819T063434Z
UID:10000363-1762560000-1762646399@drei100sechzig.de
SUMMARY:BKrFQG - Modul 1.2 -  LKW-Technik
DESCRIPTION:BKrFQG – Modul 1.2: LKW-Technik \n\n\nDas Berufskraftfahrerqualifikationsgesetz sieht vor\, dass Fahrerinnen und Fahrer eine Grundqualifikation benötigen\, wenn sie die Beförderungen im Güterkraft- oder Personenkraftverkehr auf öffentlichen Straßen durchführen und bei den Beförderungen ein Kraftfahrzeug einsetzen\, für das nach aktueller Rechtslage eine Fahrerlaubnis der Klassen C1\, C1E\, C\, CE\, D1\, D1E\, D oder DE benötigt wird. \n\n. \nKursinhalte \n\nModul 1.2: LKW-Technik \nUhrzeit\nVon 8:00 bis 16:00 Uhr \nPreis\n110 € zzgl. Mwst. – Bei Gruppenanfragen mit mehr als 5 Personen Preis auf Anfrage \nVoraussetzungen\nBesitz einer Fahrerlaubnis der Klassen C\, C1\, C1E\, CE\, D\, D1\, D1E\, DE \nAbschluss\nVerlängerung des Führerscheineintrags zur gewerblichen Nutzung \nFördermittel möglich?\nAuf Anfrage \nEs gibt noch freie Plätze\nAnmelden
URL:https://drei100sechzig.de/event/bkrfqg-modul-1-2-lkw-technik-8/
LOCATION:Bebelstr. 6 – Raum 101\, Bebelstr. 6 - Raum 101\, Freiburg\, Baden-Württemberg\, 79108
CATEGORIES:Grundqualifikation Berufskraftfahrer,Schulungen,Weiterbildung Berufskraftfahrer
ATTACH;FMTTYPE=image/jpeg:https://drei100sechzig.de/wp-content/uploads/2022/12/Berufskraftfahrer-teaser1.jpeg
ORGANIZER;CN="Drei100Sechzig - Das Schulungszentrum":MAILTO:info@drei100sechzig.de
END:VEVENT
BEGIN:VEVENT
DTSTART;TZID=Europe/Berlin:20251115T080000
DTEND;TZID=Europe/Berlin:20251115T160000
DTSTAMP:20260421T132235
CREATED:20241120T103332Z
LAST-MODIFIED:20241120T103332Z
UID:10000293-1763193600-1763222400@drei100sechzig.de
SUMMARY:BKrFQG - Modul 2.1 - Lenk- und Ruhezeiten und Sozialvorschriften
DESCRIPTION:BKrFQG – Modul 2.1: Lenk- und Ruhezeiten\, Sozialvorschriften \n\n\nDas Berufskraftfahrerqualifikationsgesetz sieht vor\, dass Fahrerinnen und Fahrer eine Grundqualifikation benötigen\, wenn sie die Beförderungen im Güterkraft- oder Personenkraftverkehr auf öffentlichen Straßen durchführen und bei den Beförderungen ein Kraftfahrzeug einsetzen\, für das nach aktueller Rechtslage eine Fahrerlaubnis der Klassen C1\, C1E\, C\, CE\, D1\, D1E\, D oder DE benötigt wird. \n\n. \nKursinhalte \n\nModul 2.1: Lenk- und Ruhezeiten\, Sozialvorschriften \nUhrzeit\nVon 8:00 bis 16:00 Uhr \nPreis\n130 € zzgl. Mwst. – Bei Gruppenanfragen mit mehr als 5 Personen Preis auf Anfrage \nVoraussetzungen\nBesitz einer Fahrerlaubnis der Klassen C\, C1\, C1E\, CE\, D\, D1\, D1E\, DE \nAbschluss\nVerlängerung des Führerscheineintrags zur gewerblichen Nutzung \nFördermittel möglich?\nAuf Anfrage \nEs gibt noch freie Plätze\nAnmelden
URL:https://drei100sechzig.de/event/bkrfqg-modul-2-1-lenk-und-ruhezeiten-und-sozialvorschriften-13/
LOCATION:Bebelstr. 6 – Raum 101\, Bebelstr. 6 - Raum 101\, Freiburg\, Baden-Württemberg\, 79108
CATEGORIES:Grundqualifikation Berufskraftfahrer,Schulungen,Weiterbildung Berufskraftfahrer
ATTACH;FMTTYPE=image/jpeg:https://drei100sechzig.de/wp-content/uploads/2022/12/BKrFQG_teaser-1.jpeg
ORGANIZER;CN="Drei100Sechzig - Das Schulungszentrum":MAILTO:info@drei100sechzig.de
END:VEVENT
BEGIN:VEVENT
DTSTART;TZID=Europe/Berlin:20251122T080000
DTEND;TZID=Europe/Berlin:20251122T160000
DTSTAMP:20260421T132235
CREATED:20241120T103423Z
LAST-MODIFIED:20241120T103423Z
UID:10000294-1763798400-1763827200@drei100sechzig.de
SUMMARY:BKrFQG - Modul 1.4 -  Ladungs­sicherung
DESCRIPTION:BKrFQG – Modul 1.4 – Ladungssicherung \n\n\nDas Berufskraftfahrerqualifikationsgesetz sieht vor\, dass Fahrerinnen und Fahrer eine Grundqualifikation benötigen\, wenn sie die Beförderungen im Güterkraft- oder Personenkraftverkehr auf öffentlichen Straßen durchführen und bei den Beförderungen ein Kraftfahrzeug einsetzen\, für das nach aktueller Rechtslage eine Fahrerlaubnis der Klassen C1\, C1E\, C\, CE\, D1\, D1E\, D oder DE benötigt wird. \n\n. \nKursinhalte \n\nModul 1.4: Ladungssicherung \nUhrzeit\nVon 8:00 bis 16:00 Uhr \n  \nPreis\n130 € zzgl. Mwst. – Bei Gruppenanfragen mit mehr als 5 Personen Preis auf Anfrage \nVoraussetzungen\nBesitz einer Fahrerlaubnis der Klassen C\, C1\, C1E\, CE\, D\, D1\, D1E\, DE \nAbschluss\nVerlängerung des Führerscheineintrags zur gewerblichen Nutzung \nFördermittel möglich?\nAuf Anfrage \nEs gibt noch freie Plätze\nAnmelden
URL:https://drei100sechzig.de/event/bkrfqg-modul-1-4-ladungssicherung-11/
LOCATION:Bebelstr. 6 – Raum 101\, Bebelstr. 6 - Raum 101\, Freiburg\, Baden-Württemberg\, 79108
CATEGORIES:Grundqualifikation Berufskraftfahrer,Schulungen,Weiterbildung Berufskraftfahrer
ATTACH;FMTTYPE=image/jpeg:https://drei100sechzig.de/wp-content/uploads/2022/12/Berufskraftfahrer-teaser1.jpeg
ORGANIZER;CN="Drei100Sechzig - Das Schulungszentrum":MAILTO:info@drei100sechzig.de
END:VEVENT
END:VCALENDAR