BEGIN:VCALENDAR
VERSION:2.0
PRODID:-//Drei100Sechzig - Das Schulungszentrum - ECPv6.15.18//NONSGML v1.0//EN
CALSCALE:GREGORIAN
METHOD:PUBLISH
X-WR-CALNAME:Drei100Sechzig - Das Schulungszentrum
X-ORIGINAL-URL:https://drei100sechzig.de
X-WR-CALDESC:Veranstaltungen für Drei100Sechzig - Das Schulungszentrum
REFRESH-INTERVAL;VALUE=DURATION:PT1H
X-Robots-Tag:noindex
X-PUBLISHED-TTL:PT1H
BEGIN:VTIMEZONE
TZID:Europe/Berlin
BEGIN:DAYLIGHT
TZOFFSETFROM:+0100
TZOFFSETTO:+0200
TZNAME:CEST
DTSTART:20230326T010000
END:DAYLIGHT
BEGIN:STANDARD
TZOFFSETFROM:+0200
TZOFFSETTO:+0100
TZNAME:CET
DTSTART:20231029T010000
END:STANDARD
BEGIN:DAYLIGHT
TZOFFSETFROM:+0100
TZOFFSETTO:+0200
TZNAME:CEST
DTSTART:20240331T010000
END:DAYLIGHT
BEGIN:STANDARD
TZOFFSETFROM:+0200
TZOFFSETTO:+0100
TZNAME:CET
DTSTART:20241027T010000
END:STANDARD
BEGIN:DAYLIGHT
TZOFFSETFROM:+0100
TZOFFSETTO:+0200
TZNAME:CEST
DTSTART:20250330T010000
END:DAYLIGHT
BEGIN:STANDARD
TZOFFSETFROM:+0200
TZOFFSETTO:+0100
TZNAME:CET
DTSTART:20251026T010000
END:STANDARD
END:VTIMEZONE
BEGIN:VEVENT
DTSTART;TZID=Europe/Berlin:20240911T080000
DTEND;TZID=Europe/Berlin:20240911T140000
DTSTAMP:20260421T235318
CREATED:20231108T133719Z
LAST-MODIFIED:20240821T054357Z
UID:10000185-1726041600-1726063200@drei100sechzig.de
SUMMARY:Schulung für Brandschutz – Brand- und Evakuierungs­helfer-in
DESCRIPTION:Brandschutz – Brand- und Evakuierungshelfer:innen \n\n\ngemäß § 10 ArbSchG\, DGUV Vorschrift 1 und ASR A2.2. \n\n\nDie Unterweisung und Ausbildung von Brand-und Evakuierungshelfern ist für jedes Unternehmen ein unverzichtbarer Grundbaustein des betrieblichen Brandschutzes. Gesetzlich ist festgelegt wie viele Brand- und Evakuierungshelfer jedes Unternehmen bestimmen muss. Die Gefährdungsbeurteilung bildet hierfür die Basis. Sie unterstützen den Brandschutzbeauftragten im Falle einer Brandgefährdung selbstständig\, reduzieren diese und evakuieren Mitarbeitende. \nDiese Schulung richtet sich an Mitarbeiter:innen die zukünftig Brandschutzaufgaben übernehmen sollen sowie verantwortliche Mitarbeiter:innen im Bereich Arbeitssicherheit\, Hausmeister und haustechnisches Personal. \n\n. \nKursinhalte \n Rechtliche Grundlagen des Brandschutzes  Entstehung eines Brandes verhindern  Brand- und Rauchausbreitung verhindern  Sichere Flucht- und Rettungswege schaffen  Verhalten im Brandfall  Bekämpfung eines Entstehungsbrandes  Vorschriften Uhrzeit\nVon 8:00 bis 14:00 Uhr \nPreis\n170 € zzgl. Mwst. – Bei Gruppenanfragen mit mehr als 5 Personen Preis auf Anfrage \nVoraussetzungen\nZum Besuch der Veranstaltung sind keine Voraussetzungen notwendig. \nAbschluss\nausgebildete/r Brand- und Evakuierungshelfer:in \nFördermittel möglich?\nAuf Anfrage \nEs gibt noch freie Plätze\nAnmelden
URL:https://drei100sechzig.de/event/schulung-fuer-brandschutz-brand-und-evakuierungshelfer-in-10/
LOCATION:Bebelstr. 6 – Raum 103\, Bebelstr. 6 - Raum 103\, Freiburg\, Baden-Württemberg\, 79108\, Deutschland
CATEGORIES:Brandschutzhelfer,Schulungen
ATTACH;FMTTYPE=image/jpeg:https://drei100sechzig.de/wp-content/uploads/2022/12/Brandschutz_teaser.jpeg
ORGANIZER;CN="Drei100Sechzig - Das Schulungszentrum":MAILTO:info@drei100sechzig.de
END:VEVENT
END:VCALENDAR