BEGIN:VCALENDAR
VERSION:2.0
PRODID:-//Drei100Sechzig - Das Schulungszentrum - ECPv6.15.18//NONSGML v1.0//EN
CALSCALE:GREGORIAN
METHOD:PUBLISH
X-WR-CALNAME:Drei100Sechzig - Das Schulungszentrum
X-ORIGINAL-URL:https://drei100sechzig.de
X-WR-CALDESC:Veranstaltungen für Drei100Sechzig - Das Schulungszentrum
REFRESH-INTERVAL;VALUE=DURATION:PT1H
X-Robots-Tag:noindex
X-PUBLISHED-TTL:PT1H
BEGIN:VTIMEZONE
TZID:Europe/Berlin
BEGIN:DAYLIGHT
TZOFFSETFROM:+0100
TZOFFSETTO:+0200
TZNAME:CEST
DTSTART:20220327T010000
END:DAYLIGHT
BEGIN:STANDARD
TZOFFSETFROM:+0200
TZOFFSETTO:+0100
TZNAME:CET
DTSTART:20221030T010000
END:STANDARD
BEGIN:DAYLIGHT
TZOFFSETFROM:+0100
TZOFFSETTO:+0200
TZNAME:CEST
DTSTART:20230326T010000
END:DAYLIGHT
BEGIN:STANDARD
TZOFFSETFROM:+0200
TZOFFSETTO:+0100
TZNAME:CET
DTSTART:20231029T010000
END:STANDARD
BEGIN:DAYLIGHT
TZOFFSETFROM:+0100
TZOFFSETTO:+0200
TZNAME:CEST
DTSTART:20240331T010000
END:DAYLIGHT
BEGIN:STANDARD
TZOFFSETFROM:+0200
TZOFFSETTO:+0100
TZNAME:CET
DTSTART:20241027T010000
END:STANDARD
END:VTIMEZONE
BEGIN:VEVENT
DTSTART;TZID=Europe/Berlin:20230513T080000
DTEND;TZID=Europe/Berlin:20230513T160000
DTSTAMP:20260425T164647
CREATED:20221213T120321Z
LAST-MODIFIED:20230307T130214Z
UID:10000038-1683964800-1683993600@drei100sechzig.de
SUMMARY:BKrFQG - Modul 3.3 - 3.4 - Gesundheit\, Schwerpunkt: Erste Hilfe
DESCRIPTION:BKrFQG – Modul 3.3 – 3.4 – Gesundheit\, Schwerpunkt: Erste Hilfe \n\n\nDas Berufskraftfahrerqualifikationsgesetz sieht vor\, dass Fahrerinnen und Fahrer eine Grundqualifikation benötigen\, wenn sie die Beförderungen im Güterkraft- oder Personenkraftverkehr auf öffentlichen Straßen durchführen und bei den Beförderungen ein Kraftfahrzeug einsetzen\, für das nach aktueller Rechtslage eine Fahrerlaubnis der Klassen C1\, C1E\, C\, CE\, D1\, D1E\, D oder DE benötigt wird. \n\n. \nKursinhalte \n\nModul 3.3 – 3.4: Gesundheit\, Schwerpunkt: Erste Hilfe \nUhrzeit\nVon 8:00 bis 16:00 Uhr \nPreis\n120 € zzgl. Mwst. – Bei Gruppenanfragen mit mehr als 5 Personen Preis auf Anfrage \nVoraussetzungen\nBesitz einer Fahrerlaubnis der Klassen C\, C1\, C1E\, CE\, D\, D1\, D1E\, DE \nAbschluss\nVerlängerung des Führerscheineintrags zur gewerblichen Nutzung \nFördermittel möglich?\nAuf Anfrage \nEs gibt noch freie Plätze\nAnmelden
URL:https://drei100sechzig.de/event/bkrfqg-modul-3-3-3-4-gesundheit-schwerpunkt-erste-hilfe-2/
LOCATION:Bebelstr. 6 – Raum 101\, Bebelstr. 6 - Raum 101\, Freiburg\, Baden-Württemberg\, 79108
CATEGORIES:Grundqualifikation Berufskraftfahrer,Schulungen,Weiterbildung Berufskraftfahrer
ATTACH;FMTTYPE=image/jpeg:https://drei100sechzig.de/wp-content/uploads/2022/12/BKrFQG_teaser-1.jpeg
ORGANIZER;CN="Drei100Sechzig - Das Schulungszentrum":MAILTO:info@drei100sechzig.de
END:VEVENT
END:VCALENDAR