BEGIN:VCALENDAR
VERSION:2.0
PRODID:-//Drei100Sechzig - Das Schulungszentrum - ECPv6.15.18//NONSGML v1.0//EN
CALSCALE:GREGORIAN
METHOD:PUBLISH
X-ORIGINAL-URL:https://drei100sechzig.de
X-WR-CALDESC:Veranstaltungen für Drei100Sechzig - Das Schulungszentrum
REFRESH-INTERVAL;VALUE=DURATION:PT1H
X-Robots-Tag:noindex
X-PUBLISHED-TTL:PT1H
BEGIN:VTIMEZONE
TZID:Europe/Berlin
BEGIN:DAYLIGHT
TZOFFSETFROM:+0100
TZOFFSETTO:+0200
TZNAME:CEST
DTSTART:20220327T010000
END:DAYLIGHT
BEGIN:STANDARD
TZOFFSETFROM:+0200
TZOFFSETTO:+0100
TZNAME:CET
DTSTART:20221030T010000
END:STANDARD
BEGIN:DAYLIGHT
TZOFFSETFROM:+0100
TZOFFSETTO:+0200
TZNAME:CEST
DTSTART:20230326T010000
END:DAYLIGHT
BEGIN:STANDARD
TZOFFSETFROM:+0200
TZOFFSETTO:+0100
TZNAME:CET
DTSTART:20231029T010000
END:STANDARD
BEGIN:DAYLIGHT
TZOFFSETFROM:+0100
TZOFFSETTO:+0200
TZNAME:CEST
DTSTART:20240331T010000
END:DAYLIGHT
BEGIN:STANDARD
TZOFFSETFROM:+0200
TZOFFSETTO:+0100
TZNAME:CET
DTSTART:20241027T010000
END:STANDARD
END:VTIMEZONE
BEGIN:VEVENT
DTSTART;VALUE=DATE:20231023
DTEND;VALUE=DATE:20231025
DTSTAMP:20260425T134638
CREATED:20231009T062126Z
LAST-MODIFIED:20231020T085602Z
UID:10000106-1698019200-1698191999@drei100sechzig.de
SUMMARY:Sicherheits­beauftragte*r
DESCRIPTION:Sicherheitsbeauftragte*r \nWerden Sie tätig in der Prävention von Arbeitsunfällen\, Berufskrankheiten und arbeitsbedingten Gesundheitsgefahren. Wir unterstützen Sie und Ihre Mitarbeiter vollumfänglich. \nDie Sicherheitsbeauftragten (SiBe) stellen einen wichtigen Bestandteil des betrieblichen Arbeitsschutzes dar. Sie unterstützen die Niederlassungsleiter oder Betriebsverantwortlichen in Zusammenarbeit mit den Fachkräften für Arbeitssicherheit bei Sicherheitsmaßnahmen im Unternehmen zum Schutz der Mitarbeiter. \nGrundsätzlich muss ab 21 Beschäftigten in einem Unternehmen (Firma/Niederlassung) ein*e Sicherheitsbeauftragte*r bestellt werden (§22 SGB VII). Die Anzahl der SiBe orientiert sich nach fünf Kriterien: räumliche Nähe der zuständigen SiBe zu den Beschäftigten\, zeitliche Nähe der zuständigen SiBe zu den Beschäftigten (z.B. Schichtsystem)\, fachliche Nähe der zuständigen SiBe zu den Beschäftigten\, Gefährdungssituation und Anzahl der Beschäftigten. \nKursinhalte \n \nNach diesem Seminar sind Sie mit den Aufgaben sowie den Rechten und Pflichten von Sicherheitsbeauftragten vertraut und sind befähigt aktiv nachhaltige Sicherheitsmaßnahmen in Ihrem Unternehmen einzusetzen. \n\nDie Schulung richtet sich nach der DGUV Information 211-042 \nUhrzeit\nVon 08:00 bis 16:00 Uhr. \nPreis\n290 € zzgl. MwSt. Bei Gruppenanfragen mit mehr als 5 Personen Preis auf Anfrage \nVoraussetzungen\nKeine \nAbschluss\nzertifizierter Abschluss zum / zur Sicherheitsbeauftragten \nFördermittel möglich?\nAuf Anfrage \nEs gibt noch freie Plätze\nAnmelden
URL:https://drei100sechzig.de/event/sicherheitsbeauftragter-3/
LOCATION:Bebelstr. 6 – Raum 103\, Bebelstr. 6 - Raum 103\, Freiburg\, Baden-Württemberg\, 79108\, Deutschland
CATEGORIES:Schulungen,Sicherheitsbeauftragte-r
ATTACH;FMTTYPE=image/jpeg:https://drei100sechzig.de/wp-content/uploads/2022/12/Sicherheitsbeauftragte_teaser.jpeg
ORGANIZER;CN="Drei100Sechzig - Das Schulungszentrum":MAILTO:info@drei100sechzig.de
END:VEVENT
END:VCALENDAR